BEGIN:VCALENDAR
VERSION:2.0
PRODID:-//Library Market//iCal Export//EN
BEGIN:VEVENT
SUMMARY:Adult Program
UID:78924
DTSTAMP:20260423T134100Z
DTSTART:20260806T230000Z
DTEND:20260807T000000Z
LOCATION:999 Old Country Rd., Plainview, NY 11803, United States
ROOM: Auditorium
DESCRIPTION:**
URL:https://poblib.librarycalendar.com/event/adult-program-78924
END:VEVENT
END:VCALENDAR
