BEGIN:VCALENDAR
VERSION:2.0
PRODID:-//Library Market//iCal Export//EN
BEGIN:VEVENT
SUMMARY:Adult Program
UID:78923
DTSTAMP:20260423T134100Z
DTSTART:20260809T190000Z
DTEND:20260809T203000Z
LOCATION:999 Old Country Rd., Plainview, NY 11803, United States
ROOM: Adult Program
DESCRIPTION:**
URL:https://poblib.librarycalendar.com/event/adult-program-78923
END:VEVENT
END:VCALENDAR
