BEGIN:VCALENDAR
VERSION:2.0
PRODID:-//Library Market//iCal Export//EN
BEGIN:VEVENT
SUMMARY:Adult Program
UID:78922
DTSTAMP:20260423T224700Z
DTSTART:20260716T230000Z
DTEND:20260717T000000Z
LOCATION:999 Old Country Rd., Plainview, NY 11803, United States
ROOM: Auditorium
DESCRIPTION:**
URL:https://poblib.librarycalendar.com/event/adult-program-78922
END:VEVENT
END:VCALENDAR
