BEGIN:VCALENDAR
VERSION:2.0
PRODID:-//Library Market//iCal Export//EN
BEGIN:VEVENT
SUMMARY:PCAA health seminar
UID:78914
DTSTAMP:20260423T224700Z
DTSTART:20260521T230000Z
DTEND:20260522T010000Z
LOCATION:999 Old Country Rd., Plainview, NY 11803, United States
ROOM: Room B
DESCRIPTION:**
URL:https://poblib.librarycalendar.com/event/pcaa-health-seminar-78914
END:VEVENT
END:VCALENDAR
