BEGIN:VCALENDAR
VERSION:2.0
PRODID:-//Library Market//iCal Export//EN
BEGIN:VEVENT
SUMMARY:Wintry Canvas
UID:78863
DTSTAMP:20260422T230800Z
DTSTART:20270218T160000Z
DTEND:20270218T170000Z
LOCATION:999 Old Country Rd., Plainview, NY 11803, United States
ROOM: Room A
DESCRIPTION:GRADES K-4.TBA. 
URL:https://poblib.librarycalendar.com/event/wintry-canvas-78863
END:VEVENT
END:VCALENDAR
