BEGIN:VCALENDAR
VERSION:2.0
PRODID:-//Library Market//iCal Export//EN
BEGIN:VEVENT
SUMMARY:Yay Snow Day!
UID:78861
DTSTAMP:20260423T103900Z
DTSTART:20261213T180000Z
DTEND:20261213T190000Z
LOCATION:999 Old Country Rd., Plainview, NY 11803, United States
ROOM: Combined Room A &amp; B
DESCRIPTION:Ages 3-5 with accompanying adult. TBA.
URL:https://poblib.librarycalendar.com/event/yay-snow-day-78861
END:VEVENT
END:VCALENDAR
