BEGIN:VCALENDAR
VERSION:2.0
PRODID:-//Library Market//iCal Export//EN
BEGIN:VEVENT
SUMMARY:Woodland Art (Winter Version)
UID:78388
DTSTAMP:20260419T165700Z
DTSTART:20261230T190000Z
DTEND:20261230T200000Z
LOCATION:999 Old Country Rd., Plainview, NY 11803, United States
ROOM: Room A
DESCRIPTION:Grades 5-12Create a winter themed painting using wood discs as
  your canvas! 
URL:https://poblib.librarycalendar.com/event/woodland-art-winter-version-7
 8388
END:VEVENT
END:VCALENDAR
