BEGIN:VCALENDAR
VERSION:2.0
PRODID:-//Library Market//iCal Export//EN
BEGIN:VEVENT
SUMMARY:Junk Jewelry Snowman
UID:74302
DTSTAMP:20260419T165700Z
DTSTART:20261213T200000Z
DTEND:20261213T210000Z
LOCATION:999 Old Country Rd., Plainview, NY 11803, United States
ROOM: Room A
DESCRIPTION:Grades 5-12Teens and tweens will enjoy making this fun, winter
  Snowman on canvas. Mixed junk jewelry pieces, glitter, and glue result in
  a textured snowman.
URL:https://poblib.librarycalendar.com/event/junk-jewelry-snowman-74302
END:VEVENT
END:VCALENDAR
