BEGIN:VCALENDAR
VERSION:2.0
PRODID:-//Library Market//iCal Export//EN
BEGIN:VEVENT
SUMMARY:BAM! – Outdoor concert
UID:78998
DTSTAMP:20260426T004300Z
DTSTART:20260806T230000Z
DTEND:20260807T000000Z
LOCATION:999 Old Country Rd., Plainview, NY 11803, United States
ROOM: Lawn
DESCRIPTION:BAM!—short for British-American Music— is a NYC–Long Isl
 and band bringing the spirit of mid-’60s pop to life. Their set brings t
 ogether well-known hits alongside rarely heard favorites that capture the 
 spirit and style of the era, all delivered with energy, character, and a d
 istinctly classic feel.*** Outdoor concerts will take place in the Alma Cr
 aib Memorial Garden.  Bring your own chair or blanket!  In the event of 
 inclement weather, performances will take place in the Auditorium.  Ticke
 ts are not required for this event. 
URL:https://poblib.librarycalendar.com/index.php/event/bam-outdoor-concert
 -78998
END:VEVENT
END:VCALENDAR
