BEGIN:VCALENDAR
VERSION:2.0
PRODID:-//Library Market//iCal Export//EN
BEGIN:VEVENT
SUMMARY:Adult Program
UID:78921
DTSTAMP:20260423T134100Z
DTSTART:20260709T230000Z
DTEND:20260710T000000Z
LOCATION:999 Old Country Rd., Plainview, NY 11803, United States
ROOM: Auditorium
DESCRIPTION:**
URL:https://poblib.librarycalendar.com/index.php/event/adult-program-78921
END:VEVENT
END:VCALENDAR
