BEGIN:VCALENDAR
VERSION:2.0
PRODID:-//Library Market//iCal Export//EN
BEGIN:VEVENT
SUMMARY:Adult Program - rain
UID:78920
DTSTAMP:20260423T214700Z
DTSTART:20260604T230000Z
DTEND:20260605T000000Z
LOCATION:999 Old Country Rd., Plainview, NY 11803, United States
ROOM: Auditorium
DESCRIPTION:**
URL:https://poblib.librarycalendar.com/index.php/event/adult-program-rain-
 78920
END:VEVENT
END:VCALENDAR
