BEGIN:VCALENDAR
VERSION:2.0
PRODID:-//Library Market//iCal Export//EN
BEGIN:VEVENT
SUMMARY:Yawn Owls on Canvas
UID:78864
DTSTAMP:20260422T165500Z
DTSTART:20270304T211500Z
DTEND:20270304T221500Z
LOCATION:999 Old Country Rd., Plainview, NY 11803, United States
ROOM: Room A
DESCRIPTION:GRADES K-4.TBA.
URL:https://poblib.librarycalendar.com/index.php/event/yawn-owls-canvas-78
 864
END:VEVENT
END:VCALENDAR
