BEGIN:VCALENDAR
VERSION:2.0
PRODID:-//Library Market//iCal Export//EN
BEGIN:VEVENT
SUMMARY:Rotary Club
UID:78786
DTSTAMP:20260423T082800Z
DTSTART:20260430T220000Z
DTEND:20260501T000000Z
LOCATION:999 Old Country Rd., Plainview, NY 11803, United States
ROOM: Combined Room C &amp; D
DESCRIPTION:To meet
URL:https://poblib.librarycalendar.com/index.php/event/rotary-club-78786
END:VEVENT
END:VCALENDAR
