BEGIN:VCALENDAR
VERSION:2.0
PRODID:-//Library Market//iCal Export//EN
BEGIN:VEVENT
SUMMARY:adult program
UID:78777
DTSTAMP:20260422T230800Z
DTSTART:20260803T223000Z
DTEND:20260804T003000Z
LOCATION:999 Old Country Rd., Plainview, NY 11803, United States
ROOM: Room B
DESCRIPTION:**
URL:https://poblib.librarycalendar.com/index.php/event/adult-program-78777
END:VEVENT
END:VCALENDAR
