BEGIN:VCALENDAR
VERSION:2.0
PRODID:-//Library Market//iCal Export//EN
BEGIN:VEVENT
SUMMARY:Relay for Life Plainview Old Bethpage
UID:78749
DTSTAMP:20260423T001500Z
DTSTART:20260514T230000Z
DTEND:20260515T010000Z
LOCATION:999 Old Country Rd., Plainview, NY 11803, United States
ROOM: Room B
DESCRIPTION:To meet and plan for future events
URL:https://poblib.librarycalendar.com/index.php/event/relay-life-plainvie
 w-old-bethpage-78749
END:VEVENT
END:VCALENDAR
