BEGIN:VCALENDAR
VERSION:2.0
PRODID:-//Library Market//iCal Export//EN
BEGIN:VEVENT
SUMMARY:Fall Leaf Mosaic Craft
UID:78191
DTSTAMP:20260419T165700Z
DTSTART:20261114T200000Z
DTEND:20261114T210000Z
LOCATION:999 Old Country Rd., Plainview, NY 11803, United States
ROOM: Room A
DESCRIPTION:Grades 5-12Tweens, &amp; teens will enjoy creating a beautiful
  fall leaf using mosaics, wax threads, paint and glue!
URL:https://poblib.librarycalendar.com/index.php/event/fall-leaf-mosaic-78
 191
END:VEVENT
END:VCALENDAR
