BEGIN:VCALENDAR
VERSION:2.0
PRODID:-//Library Market//iCal Export//EN
BEGIN:VEVENT
SUMMARY:Quiet Book Club
UID:77854
DTSTAMP:20260420T071400Z
DTSTART:20260608T230000Z
DTEND:20260609T000000Z
LOCATION:999 Old Country Rd., Plainview, NY 11803, United States
ROOM: Auditorium
DESCRIPTION:Calling all readers! Join us for a designated quiet reading ho
 ur followed by light refreshments and a chance to socialize and chat about
  our books! There’s no assigned reading! Bring a book or choose from am
 ong one of the many titles we’ll have to pick from. Reader’s Advisory 
 available upon request. Contact the Reference Desk by phone or email refe
 rence@poblib.org to register.Registration now open.  
URL:https://poblib.librarycalendar.com/index.php/event/quiet-book-club-778
 54
END:VEVENT
END:VCALENDAR
